BEGIN:VCALENDAR
VERSION:2.0
PRODID:-//Danser med Drenge Tribute - ECPv6.15.14//NONSGML v1.0//EN
CALSCALE:GREGORIAN
METHOD:PUBLISH
X-ORIGINAL-URL:https://dmdt.dk
X-WR-CALDESC:Begivenheder for Danser med Drenge Tribute
REFRESH-INTERVAL;VALUE=DURATION:PT1H
X-Robots-Tag:noindex
X-PUBLISHED-TTL:PT1H
BEGIN:VTIMEZONE
TZID:Europe/Copenhagen
BEGIN:DAYLIGHT
TZOFFSETFROM:+0100
TZOFFSETTO:+0200
TZNAME:CEST
DTSTART:20250330T010000
END:DAYLIGHT
BEGIN:STANDARD
TZOFFSETFROM:+0200
TZOFFSETTO:+0100
TZNAME:CET
DTSTART:20251026T010000
END:STANDARD
BEGIN:DAYLIGHT
TZOFFSETFROM:+0100
TZOFFSETTO:+0200
TZNAME:CEST
DTSTART:20260329T010000
END:DAYLIGHT
BEGIN:STANDARD
TZOFFSETFROM:+0200
TZOFFSETTO:+0100
TZNAME:CET
DTSTART:20261025T010000
END:STANDARD
BEGIN:DAYLIGHT
TZOFFSETFROM:+0100
TZOFFSETTO:+0200
TZNAME:CEST
DTSTART:20270328T010000
END:DAYLIGHT
BEGIN:STANDARD
TZOFFSETFROM:+0200
TZOFFSETTO:+0100
TZNAME:CET
DTSTART:20271031T010000
END:STANDARD
END:VTIMEZONE
BEGIN:VEVENT
DTSTART;TZID=Europe/Copenhagen:20260529T190000
DTEND;TZID=Europe/Copenhagen:20260529T201500
DTSTAMP:20260424T023947
CREATED:20260128T131619Z
LAST-MODIFIED:20260128T145755Z
UID:250-1780081200-1780085700@dmdt.dk
SUMMARY:Baggårdsfestival
DESCRIPTION:Kosmorama i Bramming:\n\n\n\nBaggårdsfestivalen i Bramming er stolte af at præsentere Danser med Drenge Tribute – et band\, der med stor respekt og musikalsk kærlighed fortolker de ikoniske hits som “Hvor længe vil du ydmyge”\, “Er der nogen i himlen” og “Kære lillesøster”. Publikum kan glæde sig til en koncert fyldt med fællessang\, god energi og alle de sange\, der gennem årtier har rørt danskerne. Med deres nærværende performance og stærke vokaler skaber Danser med Drenge Tribute en festlig stemning\, der passer perfekt til årets Baggårdsfestival. Vi inviterer alle til en uforglemmelig oplevelse\, når bandet indtager scenen og sætter gang i sommerstemningen.
URL:https://dmdt.dk/index.php/event/baggardsfestival/
ATTACH;FMTTYPE=image/png:https://dmdt.dk/wp-content/uploads/2026/01/kosmorama-logo.png
END:VEVENT
END:VCALENDAR