BEGIN:VCALENDAR
VERSION:2.0
PRODID:-//Danser med Drenge Tribute - ECPv6.15.14//NONSGML v1.0//EN
CALSCALE:GREGORIAN
METHOD:PUBLISH
X-WR-CALNAME:Danser med Drenge Tribute
X-ORIGINAL-URL:https://dmdt.dk
X-WR-CALDESC:Begivenheder for Danser med Drenge Tribute
REFRESH-INTERVAL;VALUE=DURATION:PT1H
X-Robots-Tag:noindex
X-PUBLISHED-TTL:PT1H
BEGIN:VTIMEZONE
TZID:Europe/Copenhagen
BEGIN:DAYLIGHT
TZOFFSETFROM:+0100
TZOFFSETTO:+0200
TZNAME:CEST
DTSTART:20260329T010000
END:DAYLIGHT
BEGIN:STANDARD
TZOFFSETFROM:+0200
TZOFFSETTO:+0100
TZNAME:CET
DTSTART:20261025T010000
END:STANDARD
BEGIN:DAYLIGHT
TZOFFSETFROM:+0100
TZOFFSETTO:+0200
TZNAME:CEST
DTSTART:20270328T010000
END:DAYLIGHT
BEGIN:STANDARD
TZOFFSETFROM:+0200
TZOFFSETTO:+0100
TZNAME:CET
DTSTART:20271031T010000
END:STANDARD
BEGIN:DAYLIGHT
TZOFFSETFROM:+0100
TZOFFSETTO:+0200
TZNAME:CEST
DTSTART:20280326T010000
END:DAYLIGHT
BEGIN:STANDARD
TZOFFSETFROM:+0200
TZOFFSETTO:+0100
TZNAME:CET
DTSTART:20281029T010000
END:STANDARD
END:VTIMEZONE
BEGIN:VEVENT
DTSTART;TZID=Europe/Copenhagen:20270101T120000
DTEND;TZID=Europe/Copenhagen:20270305T060000
DTSTAMP:20260424T095440
CREATED:20260128T113955Z
LAST-MODIFIED:20260128T142357Z
UID:136-1798804800-1804226400@dmdt.dk
SUMMARY:Melody Nights at The Royal Arena
DESCRIPTION:Step into a world of mystery and elegance as Venice comes alive with ornate masks\, dazzling costumes\, and centuries-old traditions. Grand masquerade balls\, lively parades\, and enchanting performances transform the city into a living stage of art\, history\, and celebration. The air fills with music as gondolas glide through illuminated canals\, carrying whispers of romance and intrigue. Every square becomes a theatre\, where performers captivate audiences with timeless artistry. Visitors are invited not only to witness the spectacle but to become part of it\, hidden behind masks that blur the line between reality and fantasy. By night\, candlelit banquets and fireworks light up the Venetian sky\, casting an unforgettable glow on the city’s Renaissance beauty. The Sunset Beats – Open Air Concert is more than a festival—it is a journey into a dream where past and present dance together in perfect harmony.
URL:https://dmdt.dk/index.php/event/melody-nights-at-the-royal-arena/
LOCATION:Venue 9\, Indio\, USA\, Indio\, 11550\, USA
CATEGORIES:Melody live show
ATTACH;FMTTYPE=image/png:https://dmdt.dk/wp-content/uploads/2026/01/image9.png
ORGANIZER;CN="Organizer 1":MAILTO:testing@gmail.com
END:VEVENT
END:VCALENDAR